Package: mosdef Version: 1.5.1 Command: /home/biocbuild/bbs-3.22-bioc/R/bin/R CMD build --keep-empty-dirs --no-resave-data --md5 mosdef StartedAt: 2025-10-20 18:44:52 -0400 (Mon, 20 Oct 2025) EndedAt: 2025-10-20 18:49:49 -0400 (Mon, 20 Oct 2025) EllapsedTime: 297.2 seconds RetCode: 0 Status: OK PackageFile: mosdef_1.5.1.tar.gz PackageFileSize: 4.391 MiB