Package: mosdef Version: 1.5.1 Command: rm -rf mosdef.buildbin-libdir && mkdir mosdef.buildbin-libdir && /Users/biocbuild/BBS/utils/build-universal.sh mosdef_1.5.1.tar.gz /Library/Frameworks/R.framework/Resources/bin/R mosdef.buildbin-libdir StartedAt: 2025-10-21 03:22:52 -0400 (Tue, 21 Oct 2025) EndedAt: 2025-10-21 03:24:02 -0400 (Tue, 21 Oct 2025) EllapsedTime: 69.3 seconds RetCode: 0 Status: OK PackageFile: mosdef_1.5.1.tgz PackageFileSize: 4.647 MiB