Package: mosdef Version: 1.5.1 Command: /Library/Frameworks/R.framework/Resources/bin/R CMD INSTALL mosdef StartedAt: 2025-10-20 15:25:56 -0400 (Mon, 20 Oct 2025) EndedAt: 2025-10-20 15:26:15 -0400 (Mon, 20 Oct 2025) EllapsedTime: 19.0 seconds RetCode: 0 Status: OK