Package: mosdef Version: 1.5.1 Command: /Library/Frameworks/R.framework/Resources/bin/R CMD build --keep-empty-dirs --no-resave-data mosdef StartedAt: 2025-10-20 17:04:09 -0400 (Mon, 20 Oct 2025) EndedAt: 2025-10-20 17:06:15 -0400 (Mon, 20 Oct 2025) EllapsedTime: 125.3 seconds RetCode: 0 Status: OK PackageFile: mosdef_1.5.1.tar.gz PackageFileSize: 4.553 MiB