Package: mosdef Version: 1.5.1 Command: rm -rf mosdef.buildbin-libdir && mkdir mosdef.buildbin-libdir && /Users/biocbuild/BBS/utils/build-universal.sh mosdef_1.5.1.tar.gz /Library/Frameworks/R.framework/Resources/bin/R mosdef.buildbin-libdir StartedAt: 2025-10-20 23:08:13 -0400 (Mon, 20 Oct 2025) EndedAt: 2025-10-20 23:08:33 -0400 (Mon, 20 Oct 2025) EllapsedTime: 20.3 seconds RetCode: 0 Status: OK PackageFile: mosdef_1.5.1.tgz PackageFileSize: 4.654 MiB