Package: mosbi Version: 1.15.0 Command: /home/biocbuild/R/R/bin/R CMD INSTALL mosbi StartedAt: 2025-10-16 21:23:57 -0000 (Thu, 16 Oct 2025) EndedAt: 2025-10-16 21:25:53 -0000 (Thu, 16 Oct 2025) EllapsedTime: 115.4 seconds RetCode: 0 Status: OK