Package: mosbi Version: 1.15.0 Command: /home/biocbuild/R/R/bin/R CMD build --keep-empty-dirs --no-resave-data mosbi StartedAt: 2025-10-21 01:25:24 -0000 (Tue, 21 Oct 2025) EndedAt: 2025-10-21 01:27:24 -0000 (Tue, 21 Oct 2025) EllapsedTime: 120.0 seconds RetCode: 1 Status: ERROR PackageFile: None PackageFileSize: NA