Package: mosbi Version: 1.15.0 Command: chmod a+r mosbi -R && F:\biocbuild\bbs-3.22-bioc\R\bin\R.exe CMD build --keep-empty-dirs --no-resave-data mosbi StartedAt: 2025-08-14 21:37:19 -0400 (Thu, 14 Aug 2025) EndedAt: 2025-08-14 21:41:40 -0400 (Thu, 14 Aug 2025) EllapsedTime: 260.4 seconds RetCode: 0 Status: OK PackageFile: mosbi_1.15.0.tar.gz PackageFileSize: 1.056 MiB