Package: mosbi Version: 1.15.0 Command: rm -rf mosbi.buildbin-libdir && mkdir mosbi.buildbin-libdir && F:\biocbuild\bbs-3.22-bioc\R\bin\R.exe CMD INSTALL --build --library=mosbi.buildbin-libdir mosbi_1.15.0.tar.gz StartedAt: 2025-08-15 10:44:51 -0400 (Fri, 15 Aug 2025) EndedAt: 2025-08-15 10:47:15 -0400 (Fri, 15 Aug 2025) EllapsedTime: 144.6 seconds RetCode: 0 Status: OK PackageFile: mosbi_1.15.0.zip PackageFileSize: 1.831 MiB