Package: mosaics Version: 2.48.0 Command: /Library/Frameworks/R.framework/Resources/bin/R CMD build --keep-empty-dirs --no-resave-data mosaics StartedAt: 2025-11-03 17:50:12 -0500 (Mon, 03 Nov 2025) EndedAt: 2025-11-03 17:53:48 -0500 (Mon, 03 Nov 2025) EllapsedTime: 216.4 seconds RetCode: 0 Status: OK PackageFile: mosaics_2.48.0.tar.gz PackageFileSize: 2.039 MiB