Package: mosaics Version: 2.48.0 Command: rm -rf mosaics.buildbin-libdir && mkdir mosaics.buildbin-libdir && /Users/biocbuild/BBS/utils/build-universal.sh mosaics_2.48.0.tar.gz /Library/Frameworks/R.framework/Resources/bin/R mosaics.buildbin-libdir StartedAt: 2025-11-04 01:50:58 -0500 (Tue, 04 Nov 2025) EndedAt: 2025-11-04 01:52:02 -0500 (Tue, 04 Nov 2025) EllapsedTime: 64.5 seconds RetCode: 0 Status: OK PackageFile: mosaics_2.48.0.tgz PackageFileSize: 1.834 MiB