Package: monocle Version: 2.37.0 Command: /home/biocbuild/R/R/bin/R CMD build --keep-empty-dirs --no-resave-data monocle StartedAt: 2025-10-14 01:55:07 -0000 (Tue, 14 Oct 2025) EndedAt: 2025-10-14 01:55:49 -0000 (Tue, 14 Oct 2025) EllapsedTime: 42.0 seconds RetCode: 0 Status: OK PackageFile: monocle_2.37.0.tar.gz PackageFileSize: 8.984 MiB