Package: monocle Version: 2.37.0 Command: /Library/Frameworks/R.framework/Resources/bin/R CMD INSTALL monocle StartedAt: 2025-10-16 15:43:20 -0400 (Thu, 16 Oct 2025) EndedAt: 2025-10-16 15:43:48 -0400 (Thu, 16 Oct 2025) EllapsedTime: 28.1 seconds RetCode: 0 Status: OK