Package: monocle Version: 2.37.0 Command: /Library/Frameworks/R.framework/Resources/bin/R CMD build --keep-empty-dirs --no-resave-data monocle StartedAt: 2025-10-16 18:38:10 -0400 (Thu, 16 Oct 2025) EndedAt: 2025-10-16 18:39:14 -0400 (Thu, 16 Oct 2025) EllapsedTime: 64.3 seconds RetCode: 0 Status: OK PackageFile: monocle_2.37.0.tar.gz PackageFileSize: 9.006 MiB