Package: monaLisa Version: 1.15.3 Command: /home/biocbuild/R/R/bin/R CMD INSTALL monaLisa StartedAt: 2025-10-23 21:16:48 -0000 (Thu, 23 Oct 2025) EndedAt: 2025-10-23 21:17:44 -0000 (Thu, 23 Oct 2025) EllapsedTime: 55.8 seconds RetCode: 0 Status: OK