Package: monaLisa Version: 1.16.0 Command: /home/biocbuild/R/R/bin/R CMD check --install=check:monaLisa.install-out.txt --library=/home/biocbuild/R/R/site-library --no-vignettes --timings monaLisa_1.16.0.tar.gz StartedAt: 2025-11-21 13:04:37 -0000 (Fri, 21 Nov 2025) EndedAt: 2025-11-21 13:12:05 -0000 (Fri, 21 Nov 2025) EllapsedTime: 448.4 seconds RetCode: 0 Status: OK CheckDir: monaLisa.Rcheck Warnings: 0