Package: mobileRNA Version: 1.5.1 Command: /home/biocbuild/R/R/bin/R CMD build --keep-empty-dirs --no-resave-data mobileRNA StartedAt: 2025-10-17 02:49:19 -0000 (Fri, 17 Oct 2025) EndedAt: 2025-10-17 02:51:33 -0000 (Fri, 17 Oct 2025) EllapsedTime: 134.1 seconds RetCode: 0 Status: OK PackageFile: mobileRNA_1.5.1.tar.gz PackageFileSize: 2.949 MiB