Package: mobileRNA Version: 1.5.1 Command: chmod a+r mobileRNA -R && F:\biocbuild\bbs-3.22-bioc\R\bin\R.exe CMD build --keep-empty-dirs --no-resave-data mobileRNA StartedAt: 2025-08-14 21:35:00 -0400 (Thu, 14 Aug 2025) EndedAt: 2025-08-14 21:37:18 -0400 (Thu, 14 Aug 2025) EllapsedTime: 137.8 seconds RetCode: 0 Status: OK PackageFile: mobileRNA_1.5.1.tar.gz PackageFileSize: 2.858 MiB