Package: mobileRNA Version: 1.5.1 Command: rm -rf mobileRNA.buildbin-libdir && mkdir mobileRNA.buildbin-libdir && F:\biocbuild\bbs-3.22-bioc\R\bin\R.exe CMD INSTALL --build --library=mobileRNA.buildbin-libdir mobileRNA_1.5.1.tar.gz StartedAt: 2025-08-15 10:44:08 -0400 (Fri, 15 Aug 2025) EndedAt: 2025-08-15 10:45:02 -0400 (Fri, 15 Aug 2025) EllapsedTime: 54.2 seconds RetCode: 0 Status: OK PackageFile: mobileRNA_1.5.1.zip PackageFileSize: 2.998 MiB