Package: mobileRNA Version: 1.5.1 Command: /home/biocbuild/bbs-3.22-bioc/R/bin/R CMD INSTALL mobileRNA StartedAt: 2025-10-19 15:30:20 -0400 (Sun, 19 Oct 2025) EndedAt: 2025-10-19 15:30:57 -0400 (Sun, 19 Oct 2025) EllapsedTime: 36.9 seconds RetCode: 0 Status: OK