Package: mobileRNA Version: 1.5.1 Command: /home/biocbuild/bbs-3.22-bioc/R/bin/R CMD check --install=check:mobileRNA.install-out.txt --library=/home/biocbuild/bbs-3.22-bioc/R/site-library --timings mobileRNA_1.5.1.tar.gz StartedAt: 2025-10-20 02:07:33 -0400 (Mon, 20 Oct 2025) EndedAt: 2025-10-20 02:13:25 -0400 (Mon, 20 Oct 2025) EllapsedTime: 351.3 seconds RetCode: 0 Status: OK CheckDir: mobileRNA.Rcheck Warnings: 0