Package: mobileRNA Version: 1.5.1 Command: /home/biocbuild/bbs-3.22-bioc/R/bin/R CMD build --keep-empty-dirs --no-resave-data --md5 mobileRNA StartedAt: 2025-10-19 18:45:52 -0400 (Sun, 19 Oct 2025) EndedAt: 2025-10-19 18:47:30 -0400 (Sun, 19 Oct 2025) EllapsedTime: 98.1 seconds RetCode: 0 Status: OK PackageFile: mobileRNA_1.5.1.tar.gz PackageFileSize: 3.265 MiB