Package: mobileRNA Version: 1.5.1 Command: /Library/Frameworks/R.framework/Resources/bin/R CMD INSTALL mobileRNA StartedAt: 2025-10-19 15:30:26 -0400 (Sun, 19 Oct 2025) EndedAt: 2025-10-19 15:31:21 -0400 (Sun, 19 Oct 2025) EllapsedTime: 54.9 seconds RetCode: 0 Status: OK