Package: mobileRNA Version: 1.5.1 Command: /Library/Frameworks/R.framework/Resources/bin/R CMD check --install=check:mobileRNA.install-out.txt --library=/Library/Frameworks/R.framework/Resources/library --no-vignettes --timings mobileRNA_1.5.1.tar.gz StartedAt: 2025-10-19 23:54:11 -0400 (Sun, 19 Oct 2025) EndedAt: 2025-10-20 00:00:05 -0400 (Mon, 20 Oct 2025) EllapsedTime: 353.7 seconds RetCode: 0 Status: OK CheckDir: mobileRNA.Rcheck Warnings: 0