Package: mnem Version: 1.25.0 Command: /Library/Frameworks/R.framework/Resources/bin/R CMD check --install=check:mnem.install-out.txt --library=/Library/Frameworks/R.framework/Resources/library --no-vignettes --timings mnem_1.25.0.tar.gz StartedAt: 2025-10-01 22:42:17 -0400 (Wed, 01 Oct 2025) EndedAt: 2025-10-01 22:44:45 -0400 (Wed, 01 Oct 2025) EllapsedTime: 147.8 seconds RetCode: 0 Status: OK CheckDir: mnem.Rcheck Warnings: 0