Package: mnem Version: 1.25.0 Command: rm -rf mnem.buildbin-libdir && mkdir mnem.buildbin-libdir && /Users/biocbuild/BBS/utils/build-universal.sh mnem_1.25.0.tar.gz /Library/Frameworks/R.framework/Resources/bin/R mnem.buildbin-libdir StartedAt: 2025-10-01 01:53:05 -0400 (Wed, 01 Oct 2025) EndedAt: 2025-10-01 01:53:51 -0400 (Wed, 01 Oct 2025) EllapsedTime: 45.8 seconds RetCode: 0 Status: OK PackageFile: mnem_1.25.0.tgz PackageFileSize: 5.516 MiB