Package: mitology Version: 1.1.0 Command: /home/biocbuild/R/R/bin/R CMD INSTALL mitology StartedAt: 2025-10-16 21:53:20 -0000 (Thu, 16 Oct 2025) EndedAt: 2025-10-16 21:53:43 -0000 (Thu, 16 Oct 2025) EllapsedTime: 22.7 seconds RetCode: 0 Status: OK