Package: mitology Version: 1.1.0 Command: /home/biocbuild/R/R/bin/R CMD check --install=check:mitology.install-out.txt --library=/home/biocbuild/R/R/site-library --no-vignettes --timings mitology_1.1.0.tar.gz StartedAt: 2025-10-17 11:09:27 -0000 (Fri, 17 Oct 2025) EndedAt: 2025-10-17 11:12:59 -0000 (Fri, 17 Oct 2025) EllapsedTime: 212.2 seconds RetCode: 0 Status: OK CheckDir: mitology.Rcheck Warnings: 0