Package: mitology Version: 1.1.0 Command: rm -rf mitology.buildbin-libdir && mkdir mitology.buildbin-libdir && F:\biocbuild\bbs-3.22-bioc\R\bin\R.exe CMD INSTALL --build --library=mitology.buildbin-libdir mitology_1.1.0.tar.gz StartedAt: 2025-08-15 10:43:41 -0400 (Fri, 15 Aug 2025) EndedAt: 2025-08-15 10:44:06 -0400 (Fri, 15 Aug 2025) EllapsedTime: 25.0 seconds RetCode: 0 Status: OK PackageFile: mitology_1.1.0.zip PackageFileSize: 1.759 MiB