Package: mitology Version: 1.1.0 Command: /home/biocbuild/bbs-3.22-bioc/R/bin/R CMD check --install=check:mitology.install-out.txt --library=/home/biocbuild/bbs-3.22-bioc/R/site-library --timings mitology_1.1.0.tar.gz StartedAt: 2025-10-20 02:04:52 -0400 (Mon, 20 Oct 2025) EndedAt: 2025-10-20 02:07:33 -0400 (Mon, 20 Oct 2025) EllapsedTime: 161.1 seconds RetCode: 0 Status: OK CheckDir: mitology.Rcheck Warnings: 0