Package: mitology Version: 1.1.0 Command: /home/biocbuild/bbs-3.22-bioc/R/bin/R CMD build --keep-empty-dirs --no-resave-data --md5 mitology StartedAt: 2025-10-19 18:44:15 -0400 (Sun, 19 Oct 2025) EndedAt: 2025-10-19 18:44:56 -0400 (Sun, 19 Oct 2025) EllapsedTime: 41.0 seconds RetCode: 0 Status: OK PackageFile: mitology_1.1.0.tar.gz PackageFileSize: 3.503 MiB