Package: mitology Version: 1.1.0 Command: /Library/Frameworks/R.framework/Resources/bin/R CMD INSTALL mitology StartedAt: 2025-10-19 15:34:49 -0400 (Sun, 19 Oct 2025) EndedAt: 2025-10-19 15:35:15 -0400 (Sun, 19 Oct 2025) EllapsedTime: 25.7 seconds RetCode: 0 Status: OK