Package: mitology Version: 1.1.0 Command: /Library/Frameworks/R.framework/Resources/bin/R CMD build --keep-empty-dirs --no-resave-data mitology StartedAt: 2025-10-19 17:01:15 -0400 (Sun, 19 Oct 2025) EndedAt: 2025-10-19 17:01:35 -0400 (Sun, 19 Oct 2025) EllapsedTime: 20.2 seconds RetCode: 0 Status: OK PackageFile: mitology_1.1.0.tar.gz PackageFileSize: 3.418 MiB