Package: mitology Version: 1.1.0 Command: rm -rf mitology.buildbin-libdir && mkdir mitology.buildbin-libdir && /Users/biocbuild/BBS/utils/build-universal.sh mitology_1.1.0.tar.gz /Library/Frameworks/R.framework/Resources/bin/R mitology.buildbin-libdir StartedAt: 2025-10-19 23:06:54 -0400 (Sun, 19 Oct 2025) EndedAt: 2025-10-19 23:07:02 -0400 (Sun, 19 Oct 2025) EllapsedTime: 8.2 seconds RetCode: 0 Status: OK PackageFile: mitology_1.1.0.tgz PackageFileSize: 2.736 MiB