Package: mitology Version: 1.1.0 Maintainer: Stefania Pirrotta MaintainerEmail: stefania.pirrotta at unipd.it git_url: https://git.bioconductor.org/packages/mitology git_branch: devel git_last_commit: 73ab26b git_last_commit_date: 2025-04-15 13:52:21 -0400 (Tue, 15 Apr 2025)