Package: mitoClone2 Version: 1.15.1 Command: F:\biocbuild\bbs-3.22-bioc\R\bin\R.exe CMD INSTALL mitoClone2 StartedAt: 2025-08-14 16:55:31 -0400 (Thu, 14 Aug 2025) EndedAt: 2025-08-14 16:57:06 -0400 (Thu, 14 Aug 2025) EllapsedTime: 94.6 seconds RetCode: 0 Status: OK