Package: mitoClone2 Version: 1.15.1 Command: rm -rf mitoClone2.buildbin-libdir && mkdir mitoClone2.buildbin-libdir && F:\biocbuild\bbs-3.22-bioc\R\bin\R.exe CMD INSTALL --build --library=mitoClone2.buildbin-libdir mitoClone2_1.15.1.tar.gz StartedAt: 2025-08-15 10:43:38 -0400 (Fri, 15 Aug 2025) EndedAt: 2025-08-15 10:45:07 -0400 (Fri, 15 Aug 2025) EllapsedTime: 88.8 seconds RetCode: 0 Status: OK PackageFile: mitoClone2_1.15.1.zip PackageFileSize: 7.072 MiB