Package: mitoClone2 Version: 1.16.0 Command: /Library/Frameworks/R.framework/Resources/bin/R CMD INSTALL mitoClone2 StartedAt: 2025-10-31 15:54:50 -0400 (Fri, 31 Oct 2025) EndedAt: 2025-10-31 15:56:01 -0400 (Fri, 31 Oct 2025) EllapsedTime: 71.1 seconds RetCode: 0 Status: OK