Package: mitoClone2 Version: 1.16.0 Command: /Library/Frameworks/R.framework/Resources/bin/R CMD check --install=check:mitoClone2.install-out.txt --library=/Library/Frameworks/R.framework/Resources/library --no-vignettes --timings mitoClone2_1.16.0.tar.gz StartedAt: 2025-11-03 22:34:54 -0500 (Mon, 03 Nov 2025) EndedAt: 2025-11-03 22:41:49 -0500 (Mon, 03 Nov 2025) EllapsedTime: 415.0 seconds RetCode: 0 Status: WARNINGS CheckDir: mitoClone2.Rcheck Warnings: 1