Package: mitoClone2 Version: 1.16.0 Command: /Library/Frameworks/R.framework/Resources/bin/R CMD INSTALL mitoClone2 StartedAt: 2025-11-02 15:28:37 -0500 (Sun, 02 Nov 2025) EndedAt: 2025-11-02 15:28:58 -0500 (Sun, 02 Nov 2025) EllapsedTime: 21.1 seconds RetCode: 0 Status: OK