Package: mitoClone2 Version: 1.16.0 Command: /Library/Frameworks/R.framework/Resources/bin/R CMD check --install=check:mitoClone2.install-out.txt --library=/Library/Frameworks/R.framework/Resources/library --no-vignettes --timings mitoClone2_1.16.0.tar.gz StartedAt: 2025-11-06 20:47:03 -0500 (Thu, 06 Nov 2025) EndedAt: 2025-11-06 20:49:46 -0500 (Thu, 06 Nov 2025) EllapsedTime: 162.8 seconds RetCode: 0 Status: WARNINGS CheckDir: mitoClone2.Rcheck Warnings: 1