Package: mitoClone2 Version: 1.16.0 Command: /Library/Frameworks/R.framework/Resources/bin/R CMD build --keep-empty-dirs --no-resave-data mitoClone2 StartedAt: 2025-11-02 17:02:42 -0500 (Sun, 02 Nov 2025) EndedAt: 2025-11-02 17:05:39 -0500 (Sun, 02 Nov 2025) EllapsedTime: 177.0 seconds RetCode: 0 Status: OK PackageFile: mitoClone2_1.16.0.tar.gz PackageFileSize: 1.449 MiB