Package: mitch Version: 1.22.0 Command: /home/biocbuild/R/R/bin/R CMD INSTALL mitch StartedAt: 2025-11-20 21:56:45 -0000 (Thu, 20 Nov 2025) EndedAt: 2025-11-20 21:57:23 -0000 (Thu, 20 Nov 2025) EllapsedTime: 37.5 seconds RetCode: 0 Status: OK