Package: mitch Version: 1.22.0 Command: /home/biocbuild/R/R/bin/R CMD check --install=check:mitch.install-out.txt --library=/home/biocbuild/R/R/site-library --no-vignettes --timings mitch_1.22.0.tar.gz StartedAt: 2025-11-21 12:58:58 -0000 (Fri, 21 Nov 2025) EndedAt: 2025-11-21 13:05:23 -0000 (Fri, 21 Nov 2025) EllapsedTime: 384.4 seconds RetCode: 0 Status: OK CheckDir: mitch.Rcheck Warnings: 0