Package: mitch Version: 1.22.0 Command: /home/biocbuild/R/R/bin/R CMD build --keep-empty-dirs --no-resave-data mitch StartedAt: 2025-11-21 03:59:14 -0000 (Fri, 21 Nov 2025) EndedAt: 2025-11-21 04:06:36 -0000 (Fri, 21 Nov 2025) EllapsedTime: 442.2 seconds RetCode: 0 Status: OK PackageFile: mitch_1.22.0.tar.gz PackageFileSize: 1.027 MiB