Package: mitch Version: 1.22.0 Command: /home/biocbuild/bbs-3.22-bioc/R/bin/R CMD INSTALL mitch StartedAt: 2025-11-14 15:11:23 -0500 (Fri, 14 Nov 2025) EndedAt: 2025-11-14 15:11:41 -0500 (Fri, 14 Nov 2025) EllapsedTime: 17.8 seconds RetCode: 0 Status: OK