Package: mitch Version: 1.22.0 Maintainer: Mark Ziemann MaintainerEmail: mark.ziemann at gmail.com git_url: https://git.bioconductor.org/packages/mitch git_branch: RELEASE_3_22 git_last_commit: cae4ecb git_last_commit_date: 2025-10-29 10:55:52 -0400 (Wed, 29 Oct 2025)