Package: mistyR Version: 1.17.0 Command: /home/biocbuild/R/R/bin/R CMD build --keep-empty-dirs --no-resave-data mistyR StartedAt: 2025-10-21 01:18:47 -0000 (Tue, 21 Oct 2025) EndedAt: 2025-10-21 01:21:43 -0000 (Tue, 21 Oct 2025) EllapsedTime: 175.1 seconds RetCode: 0 Status: OK PackageFile: mistyR_1.17.0.tar.gz PackageFileSize: 2.864 MiB