Package: mistyR Version: 1.17.0 Command: /Library/Frameworks/R.framework/Resources/bin/R CMD INSTALL mistyR StartedAt: 2025-10-21 15:14:20 -0400 (Tue, 21 Oct 2025) EndedAt: 2025-10-21 15:15:02 -0400 (Tue, 21 Oct 2025) EllapsedTime: 42.0 seconds RetCode: 0 Status: OK