Package: mistyR Version: 1.17.0 Command: /Library/Frameworks/R.framework/Resources/bin/R CMD check --install=check:mistyR.install-out.txt --library=/Library/Frameworks/R.framework/Resources/library --no-vignettes --timings mistyR_1.17.0.tar.gz StartedAt: 2025-10-21 23:18:01 -0400 (Tue, 21 Oct 2025) EndedAt: 2025-10-21 23:32:41 -0400 (Tue, 21 Oct 2025) EllapsedTime: 880.1 seconds RetCode: 0 Status: OK CheckDir: mistyR.Rcheck Warnings: 0